BEGIN:VCALENDAR
VERSION:2.0
PRODID:-// - ECPv6.15.20//NONSGML v1.0//EN
CALSCALE:GREGORIAN
METHOD:PUBLISH
X-ORIGINAL-URL:https://jazzcafemierlo.nl
X-WR-CALDESC:Evenementen voor 
REFRESH-INTERVAL;VALUE=DURATION:PT1H
X-Robots-Tag:noindex
X-PUBLISHED-TTL:PT1H
BEGIN:VTIMEZONE
TZID:Europe/Amsterdam
BEGIN:DAYLIGHT
TZOFFSETFROM:+0100
TZOFFSETTO:+0200
TZNAME:CEST
DTSTART:20250330T010000
END:DAYLIGHT
BEGIN:STANDARD
TZOFFSETFROM:+0200
TZOFFSETTO:+0100
TZNAME:CET
DTSTART:20251026T010000
END:STANDARD
BEGIN:DAYLIGHT
TZOFFSETFROM:+0100
TZOFFSETTO:+0200
TZNAME:CEST
DTSTART:20260329T010000
END:DAYLIGHT
BEGIN:STANDARD
TZOFFSETFROM:+0200
TZOFFSETTO:+0100
TZNAME:CET
DTSTART:20261025T010000
END:STANDARD
BEGIN:DAYLIGHT
TZOFFSETFROM:+0100
TZOFFSETTO:+0200
TZNAME:CEST
DTSTART:20270328T010000
END:DAYLIGHT
BEGIN:STANDARD
TZOFFSETFROM:+0200
TZOFFSETTO:+0100
TZNAME:CET
DTSTART:20271031T010000
END:STANDARD
END:VTIMEZONE
BEGIN:VEVENT
DTSTART;TZID=Europe/Amsterdam:20260506T200000
DTEND;TZID=Europe/Amsterdam:20260506T200000
DTSTAMP:20260420T072427
CREATED:20251216T203940Z
LAST-MODIFIED:20260104T133541Z
UID:129-1778097600-1778097600@jazzcafemierlo.nl
SUMMARY:Marquise Knox Blues
DESCRIPTION:foto door André Joosse\nMarquise Knox (1991\, St. Louis) wordt vaak beschreven als ‘an old soul in a young body’. Zijn muziek combineert toegankelijkheid met diepgang\, belichaamt authentieke Amerikaanse muziekcultuur en plaatst hem naast hedendaagse grootheden zoals Kingfish en Sean ‘Mack’ McDonald. Met blues in zijn DNA werd zijn talent al vroeg erkend toen hij onder andere met Joe Bonamassa op tournee ging… \nMarquise komt uit een familie met diepe wortels in de blues. Hij leerde gitaar spelen van zijn grootmoeder Lillie en werd sterk beïnvloed door zijn oom Clifford. Tijdens zijn jeugd werd hij begeleid door blueslegende Henry Townsend. Marquise heeft opgetreden met iconen als B.B. King\, Pinetop Perkins en David ‘Honeyboy’ Edward. De band toert voornamelijk door de Verenigde Staten en sporadisch in Europa. \n(klik op de foto voor een preview) \nTICKETS BESTELLEN
URL:https://jazzcafemierlo.nl/event/marquise-knox-blues/
LOCATION:Jazz Café Mierlo\, Heer van Scherpenzeelweg 14-16\, Mierlo\, 5731 EW
CATEGORIES:CONCERTEN
ORGANIZER;CN="Jazz Caf%C3%A9 Mierlo":MAILTO:info@jazzcafemierlo.nl
END:VEVENT
END:VCALENDAR